BEGIN:VCALENDAR
VERSION:2.0
PRODID:-//JMEM Oldenburg in Holstein - ECPv6.15.20//NONSGML v1.0//EN
CALSCALE:GREGORIAN
METHOD:PUBLISH
X-WR-CALNAME:JMEM Oldenburg in Holstein
X-ORIGINAL-URL:https://jmem-holstein.de/startseite
X-WR-CALDESC:Veranstaltungen für JMEM Oldenburg in Holstein
REFRESH-INTERVAL;VALUE=DURATION:PT1H
X-Robots-Tag:noindex
X-PUBLISHED-TTL:PT1H
BEGIN:VTIMEZONE
TZID:UTC
BEGIN:STANDARD
TZOFFSETFROM:+0000
TZOFFSETTO:+0000
TZNAME:UTC
DTSTART:20240101T000000
END:STANDARD
END:VTIMEZONE
BEGIN:VEVENT
DTSTART;TZID=UTC:20250118T190000
DTEND;TZID=UTC:20251129T210000
DTSTAMP:20260422T000446
CREATED:20241211T193208Z
LAST-MODIFIED:20250216T191119Z
UID:463-1737226800-1764450000@jmem-holstein.de
SUMMARY:Termine Meeresleuchten 2025
DESCRIPTION:Als JMEM Holstein laden wir ein: zu einem Abend mit modernen deutschen und englischen Liedern\, um Gott zu loben und SEINE Nähe zu suchen\, einfach aufzutanken und in kleinen Gruppen füreinander zu beten. Außerdem gibt es jedes Mal einen kleinen Impuls\, um im Glauben zu wachsen. Im Anschluß ist Zeit\, sich bei einer Tasse Tee näher kennenzulernen und zu schnacken. \nDu bist neugierig? Dann komm vorbei! \nWir freuen uns besonders über Leute\, die das erste Mal vorbeischauen J \nUnd hier kommen alle Termine für 2025 für euren Kalender.
URL:https://jmem-holstein.de/startseite/event/meeresleuchten-2025-termine/
LOCATION:Marco Kapelle Göhl\, Göhl
CATEGORIES:Meeresleuchten
ATTACH;FMTTYPE=image/jpeg:https://jmem-holstein.de/wp-content/uploads/2024/12/2025-Meeresleuchten-alle-Termine-scaled.jpeg
END:VEVENT
BEGIN:VEVENT
DTSTART;TZID=UTC:20250316T160000
DTEND;TZID=UTC:20250316T180000
DTSTAMP:20260422T000446
CREATED:20250216T190342Z
LAST-MODIFIED:20250216T191019Z
UID:467-1742140800-1742148000@jmem-holstein.de
SUMMARY:Word by Heart-Seminar
DESCRIPTION:Word-by-Heart lädt dich ein\, die Geschichten der Bibel so lebendig und greifbar zu erleben\, als wärst du selbst dabei gewesen. Du begegnest Jesus und den Menschen der Bibel auf eine tief persönliche Weise und entdeckst\, wie ihre Geschichten auch dein Leben transformieren können. \nIn dieser besonderen Methode tauchst du ein in die historischen und kulturellen Hintergründe der biblischen Erzählungen und lernst\, sie durch deine Vorstellungskraft lebendig werden zu lassen. Du kannst miterleben\, wie Jesus z. B. einem Blinden die Augen öffnet oder Menschen heilt\, und dabei die Kraft dieser Momente in deinem Herzen verankern. \nMit der Word-by-Heart-Methode kannst du die Geschichten wortgetreu verinnerlichen – als wäre es deine eigene Erinnerung. So wirst du selbst zum lebendigen Erzähler\, der andere mit authentischen und lebensnahen Geschichten von Jesus berührt. \n\nBegrenzte Teilnehmerzahl: max. 12 Personen.\nAnmeldung per Mail: info@jmem-holstein.de
URL:https://jmem-holstein.de/startseite/event/word-by-heart-seminar/
CATEGORIES:Workshop
ATTACH;FMTTYPE=image/png:https://jmem-holstein.de/wp-content/uploads/2025/02/Download.png
END:VEVENT
END:VCALENDAR