BEGIN:VCALENDAR
VERSION:2.0
PRODID:-//JMEM Oldenburg in Holstein - ECPv6.15.20//NONSGML v1.0//EN
CALSCALE:GREGORIAN
METHOD:PUBLISH
X-WR-CALNAME:JMEM Oldenburg in Holstein
X-ORIGINAL-URL:https://jmem-holstein.de/startseite
X-WR-CALDESC:Veranstaltungen für JMEM Oldenburg in Holstein
REFRESH-INTERVAL;VALUE=DURATION:PT1H
X-Robots-Tag:noindex
X-PUBLISHED-TTL:PT1H
BEGIN:VTIMEZONE
TZID:UTC
BEGIN:STANDARD
TZOFFSETFROM:+0000
TZOFFSETTO:+0000
TZNAME:UTC
DTSTART:20210101T000000
END:STANDARD
END:VTIMEZONE
BEGIN:VEVENT
DTSTART;TZID=UTC:20220724T100000
DTEND;TZID=UTC:20220802T180000
DTSTAMP:20260423T184428
CREATED:20220630T110834Z
LAST-MODIFIED:20220630T110932Z
UID:340-1658656800-1659463200@jmem-holstein.de
SUMMARY:Europäisches Kinderferienprogramm in Göhl
DESCRIPTION:Zeit: Sonntag: 24. Juli – Dienstag 02. August (30./31.07. Wochenende frei)\nJeweils 10 – 16 Uhr\nOrt: große Wiese der Marco-Kapelle Göhl\nKosten: 50€ inkl. Mittagessen \n\nmit großem Abschlussfest am 02. August 16-18 Uhr \nAnmeldung ist unbedingt erforderlich\, da es nur begrenzte Plätze gibt! \nWeitere Infos und Anmeldung unter: info@jmem-holstein.de oder Tel. 04361/ 18 399 25\n\n\nDownload: Einladung Kinderferienprogramm 2022
URL:https://jmem-holstein.de/startseite/event/europaeisches-kinderferienprogramm-in-goehl/
LOCATION:Marco Kapelle Göhl\, Göhl
ATTACH;FMTTYPE=image/jpeg:https://jmem-holstein.de/wp-content/uploads/2022/06/Kapelle.jpg
END:VEVENT
END:VCALENDAR