BEGIN:VCALENDAR
VERSION:2.0
PRODID:-//JMEM Oldenburg in Holstein - ECPv6.15.20//NONSGML v1.0//EN
CALSCALE:GREGORIAN
METHOD:PUBLISH
X-WR-CALNAME:JMEM Oldenburg in Holstein
X-ORIGINAL-URL:https://jmem-holstein.de/startseite
X-WR-CALDESC:Veranstaltungen für JMEM Oldenburg in Holstein
REFRESH-INTERVAL;VALUE=DURATION:PT1H
X-Robots-Tag:noindex
X-PUBLISHED-TTL:PT1H
BEGIN:VTIMEZONE
TZID:UTC
BEGIN:STANDARD
TZOFFSETFROM:+0000
TZOFFSETTO:+0000
TZNAME:UTC
DTSTART:20220101T000000
END:STANDARD
END:VTIMEZONE
BEGIN:VEVENT
DTSTART;TZID=UTC:20230114T190000
DTEND;TZID=UTC:20230114T213000
DTSTAMP:20260423T102055
CREATED:20221202T093003Z
LAST-MODIFIED:20221202T093003Z
UID:388-1673722800-1673731800@jmem-holstein.de
SUMMARY:Meeresleuchten 14. Januar 2023
DESCRIPTION:Wann?\nSa 14. Jan\, um 19 Uhr \nWo?\nMarco Kapelle Göhl \nEin Lobpreisabend mit Gebet und Gemeinschaft um einander und Gott begegnen.
URL:https://jmem-holstein.de/startseite/event/meeresleuchten-14-januar-2023/
LOCATION:Marco Kapelle Göhl\, Göhl
CATEGORIES:Meeresleuchten
ATTACH;FMTTYPE=image/jpeg:https://jmem-holstein.de/wp-content/uploads/2022/12/2023-01-14-Meeresleuchten-Einladung.jpeg
END:VEVENT
END:VCALENDAR