BEGIN:VCALENDAR
VERSION:2.0
PRODID:-//JMEM Oldenburg in Holstein - ECPv6.15.20//NONSGML v1.0//EN
CALSCALE:GREGORIAN
METHOD:PUBLISH
X-WR-CALNAME:JMEM Oldenburg in Holstein
X-ORIGINAL-URL:https://jmem-holstein.de/startseite
X-WR-CALDESC:Veranstaltungen für JMEM Oldenburg in Holstein
REFRESH-INTERVAL;VALUE=DURATION:PT1H
X-Robots-Tag:noindex
X-PUBLISHED-TTL:PT1H
BEGIN:VTIMEZONE
TZID:UTC
BEGIN:STANDARD
TZOFFSETFROM:+0000
TZOFFSETTO:+0000
TZNAME:UTC
DTSTART:20210101T000000
END:STANDARD
END:VTIMEZONE
BEGIN:VEVENT
DTSTART;TZID=UTC:20221119T190000
DTEND;TZID=UTC:20221119T210000
DTSTAMP:20260421T174012
CREATED:20221015T083855Z
LAST-MODIFIED:20221015T084043Z
UID:381-1668884400-1668891600@jmem-holstein.de
SUMMARY:Meeresleuchten 19. November 2022
DESCRIPTION:Einander und Gott begegnen\nLobpreisabend mit Gebet und Gemeinschaft \nWann?\nSamstag 19.11.2022 um 19 Uhr \nWo?\nMarco Kapelle Göhl
URL:https://jmem-holstein.de/startseite/event/meeresleuchten-november_2022/
LOCATION:Marco Kapelle Göhl\, Göhl
CATEGORIES:Meeresleuchten
ATTACH;FMTTYPE=image/jpeg:https://jmem-holstein.de/wp-content/uploads/2022/10/2022-11-19-Meeresleuchten-Einladung.jpeg
END:VEVENT
END:VCALENDAR