BEGIN:VCALENDAR
VERSION:2.0
PRODID:-//JMEM Oldenburg in Holstein - ECPv6.15.20//NONSGML v1.0//EN
CALSCALE:GREGORIAN
METHOD:PUBLISH
X-ORIGINAL-URL:https://jmem-holstein.de/startseite
X-WR-CALDESC:Veranstaltungen für JMEM Oldenburg in Holstein
REFRESH-INTERVAL;VALUE=DURATION:PT1H
X-Robots-Tag:noindex
X-PUBLISHED-TTL:PT1H
BEGIN:VTIMEZONE
TZID:UTC
BEGIN:STANDARD
TZOFFSETFROM:+0000
TZOFFSETTO:+0000
TZNAME:UTC
DTSTART:20210101T000000
END:STANDARD
END:VTIMEZONE
BEGIN:VEVENT
DTSTART;TZID=UTC:20220618T180000
DTEND;TZID=UTC:20220618T210000
DTSTAMP:20260421T235914
CREATED:20220610T212820Z
LAST-MODIFIED:20220630T094812Z
UID:287-1655575200-1655586000@jmem-holstein.de
SUMMARY:Meeresleuchten am 18. Juni 2022
DESCRIPTION:
URL:https://jmem-holstein.de/startseite/event/meeresleuchten/
LOCATION:Marco Kapelle Göhl\, Göhl
CATEGORIES:Meeresleuchten
ATTACH;FMTTYPE=image/jpeg:https://jmem-holstein.de/wp-content/uploads/2022/06/Meeresleuchten_Juni.jpeg
END:VEVENT
END:VCALENDAR