BEGIN:VCALENDAR
VERSION:2.0
PRODID:-//JMEM Oldenburg in Holstein - ECPv6.15.20//NONSGML v1.0//EN
CALSCALE:GREGORIAN
METHOD:PUBLISH
X-ORIGINAL-URL:https://jmem-holstein.de/startseite
X-WR-CALDESC:Veranstaltungen für JMEM Oldenburg in Holstein
REFRESH-INTERVAL;VALUE=DURATION:PT1H
X-Robots-Tag:noindex
X-PUBLISHED-TTL:PT1H
BEGIN:VTIMEZONE
TZID:UTC
BEGIN:STANDARD
TZOFFSETFROM:+0000
TZOFFSETTO:+0000
TZNAME:UTC
DTSTART:20230101T000000
END:STANDARD
END:VTIMEZONE
BEGIN:VEVENT
DTSTART;TZID=UTC:20240113T190000
DTEND;TZID=UTC:20240113T210000
DTSTAMP:20260420T185509
CREATED:20231216T190402Z
LAST-MODIFIED:20231216T190402Z
UID:435-1705172400-1705179600@jmem-holstein.de
SUMMARY:Meeresleuchten 13. Januar 2024
DESCRIPTION:Wann?\nSa 13. Januar ab 19 Uhr \nWo?\nMarco Kapelle Göhl \nEin Lobpreisabend mit Gebet und Gemeinschaft um einander und Gott begegnen. \n  \nFolgende Termin: \nDas nächste Mal „Meeresleuchten“ ist am 02. März.
URL:https://jmem-holstein.de/startseite/event/meeresleuchten-13-januar-2024/
LOCATION:Marco Kapelle Göhl\, Göhl
CATEGORIES:Meeresleuchten
ATTACH;FMTTYPE=image/jpeg:https://jmem-holstein.de/wp-content/uploads/2023/12/2024-01-13-Meeresleuchten-Einladung-gross.jpeg
END:VEVENT
END:VCALENDAR